Package: MsQuality Version: 1.6.2 Command: /home/biocbuild/R/R/bin/R CMD build --keep-empty-dirs --no-resave-data MsQuality StartedAt: 2025-04-01 01:01:19 -0000 (Tue, 01 Apr 2025) EndedAt: 2025-04-01 01:02:34 -0000 (Tue, 01 Apr 2025) EllapsedTime: 75.0 seconds RetCode: 0 Status: OK PackageFile: MsQuality_1.6.2.tar.gz PackageFileSize: 4.479 MiB