Package: MsFeatures Version: 1.14.0 Command: /Library/Frameworks/R.framework/Resources/bin/R CMD check --install=check:MsFeatures.install-out.txt --library=/Library/Frameworks/R.framework/Resources/library --no-vignettes --timings MsFeatures_1.14.0.tar.gz StartedAt: 2025-04-02 01:54:26 -0400 (Wed, 02 Apr 2025) EndedAt: 2025-04-02 01:57:14 -0400 (Wed, 02 Apr 2025) EllapsedTime: 168.0 seconds RetCode: 0 Status: OK CheckDir: MsFeatures.Rcheck Warnings: 0