Package: MsExperiment Version: 1.8.0 Command: /Library/Frameworks/R.framework/Resources/bin/R CMD build --keep-empty-dirs --no-resave-data MsExperiment StartedAt: 2025-04-01 03:46:56 -0400 (Tue, 01 Apr 2025) EndedAt: 2025-04-01 03:48:25 -0400 (Tue, 01 Apr 2025) EllapsedTime: 89.6 seconds RetCode: 0 Status: OK PackageFile: MsExperiment_1.8.0.tar.gz PackageFileSize: 1.89 MiB