Package: MsDataHub Version: 1.6.0 Command: /home/biocbuild/bbs-3.20-bioc/R/bin/R CMD check --install=check:MsDataHub.install-out.txt --library=/home/biocbuild/bbs-3.20-bioc/R/site-library --timings MsDataHub_1.6.0.tar.gz StartedAt: 2025-04-01 00:13:08 -0400 (Tue, 01 Apr 2025) EndedAt: 2025-04-01 00:18:25 -0400 (Tue, 01 Apr 2025) EllapsedTime: 316.4 seconds RetCode: 0 Status: OK CheckDir: MsDataHub.Rcheck Warnings: 0