Package: MsCoreUtils Version: 1.18.0 Command: /Library/Frameworks/R.framework/Resources/bin/R CMD build --keep-empty-dirs --no-resave-data MsCoreUtils StartedAt: 2025-03-31 20:21:56 -0400 (Mon, 31 Mar 2025) EndedAt: 2025-03-31 20:22:23 -0400 (Mon, 31 Mar 2025) EllapsedTime: 27.4 seconds RetCode: 0 Status: OK PackageFile: MsCoreUtils_1.18.0.tar.gz PackageFileSize: 412 KiB