Package: MsCoreUtils Version: 1.18.0 Command: /Library/Frameworks/R.framework/Resources/bin/R CMD check --install=check:MsCoreUtils.install-out.txt --library=/Library/Frameworks/R.framework/Resources/library --no-vignettes --timings MsCoreUtils_1.18.0.tar.gz StartedAt: 2024-11-09 07:54:00 -0500 (Sat, 09 Nov 2024) EndedAt: 2024-11-09 07:59:13 -0500 (Sat, 09 Nov 2024) EllapsedTime: 313.0 seconds RetCode: 0 Status: OK CheckDir: MsCoreUtils.Rcheck Warnings: 0