Package: MsBackendSql Version: 1.6.0 Command: /Library/Frameworks/R.framework/Resources/bin/R CMD build --keep-empty-dirs --no-resave-data MsBackendSql StartedAt: 2025-03-31 20:21:49 -0400 (Mon, 31 Mar 2025) EndedAt: 2025-03-31 20:24:14 -0400 (Mon, 31 Mar 2025) EllapsedTime: 145.6 seconds RetCode: 0 Status: OK PackageFile: MsBackendSql_1.6.0.tar.gz PackageFileSize: 337.4 KiB