Package: MsBackendSql Version: 1.6.0 Command: /Library/Frameworks/R.framework/Resources/bin/R CMD INSTALL MsBackendSql StartedAt: 2025-03-31 15:50:59 -0400 (Mon, 31 Mar 2025) EndedAt: 2025-03-31 15:51:13 -0400 (Mon, 31 Mar 2025) EllapsedTime: 14.5 seconds RetCode: 0 Status: OK