Package: MsBackendMsp Version: 1.10.0 Command: /home/biocbuild/R/R/bin/R CMD INSTALL MsBackendMsp StartedAt: 2025-03-31 20:27:08 -0000 (Mon, 31 Mar 2025) EndedAt: 2025-03-31 20:27:21 -0000 (Mon, 31 Mar 2025) EllapsedTime: 12.8 seconds RetCode: 0 Status: OK