Package: MsBackendMsp Version: 1.10.0 Command: F:\biocbuild\bbs-3.20-bioc\R\bin\R.exe CMD INSTALL MsBackendMsp StartedAt: 2025-03-31 15:39:35 -0400 (Mon, 31 Mar 2025) EndedAt: 2025-03-31 15:39:56 -0400 (Mon, 31 Mar 2025) EllapsedTime: 20.9 seconds RetCode: 0 Status: OK