Package: MsBackendMassbank Version: 1.14.0 Command: /Library/Frameworks/R.framework/Resources/bin/R CMD INSTALL MsBackendMassbank StartedAt: 2025-03-31 15:28:59 -0400 (Mon, 31 Mar 2025) EndedAt: 2025-03-31 15:29:24 -0400 (Mon, 31 Mar 2025) EllapsedTime: 24.9 seconds RetCode: 0 Status: OK