Package: Motif2Site Version: 1.10.0 Command: /home/biocbuild/bbs-3.20-bioc/R/bin/R CMD check --install=check:Motif2Site.install-out.txt --library=/home/biocbuild/bbs-3.20-bioc/R/site-library --timings Motif2Site_1.10.0.tar.gz StartedAt: 2025-04-01 00:07:14 -0400 (Tue, 01 Apr 2025) EndedAt: 2025-04-01 00:20:44 -0400 (Tue, 01 Apr 2025) EllapsedTime: 809.8 seconds RetCode: 0 Status: OK CheckDir: Motif2Site.Rcheck Warnings: 0