Package: Motif2Site Version: 1.10.0 Command: /Library/Frameworks/R.framework/Resources/bin/R CMD build --keep-empty-dirs --no-resave-data Motif2Site StartedAt: 2025-03-31 20:15:27 -0400 (Mon, 31 Mar 2025) EndedAt: 2025-03-31 20:22:13 -0400 (Mon, 31 Mar 2025) EllapsedTime: 406.5 seconds RetCode: 0 Status: OK PackageFile: Motif2Site_1.10.0.tar.gz PackageFileSize: 1.414 MiB