Package: MoonlightR Version: 1.32.0 Command: /home/biocbuild/R/R/bin/R CMD INSTALL MoonlightR StartedAt: 2025-03-31 20:55:19 -0000 (Mon, 31 Mar 2025) EndedAt: 2025-03-31 20:56:20 -0000 (Mon, 31 Mar 2025) EllapsedTime: 61.2 seconds RetCode: 0 Status: OK