Package: MoonlightR Version: 1.32.0 Command: chmod a+r MoonlightR -R && F:\biocbuild\bbs-3.20-bioc\R\bin\R.exe CMD build --keep-empty-dirs --no-resave-data MoonlightR StartedAt: 2025-03-31 20:17:25 -0400 (Mon, 31 Mar 2025) EndedAt: 2025-03-31 20:21:05 -0400 (Mon, 31 Mar 2025) EllapsedTime: 220.2 seconds RetCode: 0 Status: OK PackageFile: MoonlightR_1.32.0.tar.gz PackageFileSize: 14.3 MiB