Package: MoonlightR Version: 1.32.0 Command: rm -rf MoonlightR.buildbin-libdir && mkdir MoonlightR.buildbin-libdir && F:\biocbuild\bbs-3.20-bioc\R\bin\R.exe CMD INSTALL --build --library=MoonlightR.buildbin-libdir MoonlightR_1.32.0.tar.gz StartedAt: 2025-04-01 08:39:53 -0400 (Tue, 01 Apr 2025) EndedAt: 2025-04-01 08:40:57 -0400 (Tue, 01 Apr 2025) EllapsedTime: 63.5 seconds RetCode: 0 Status: OK PackageFile: MoonlightR_1.32.0.zip PackageFileSize: 8.661 MiB