Package: MoonlightR Version: 1.32.0 Command: /Library/Frameworks/R.framework/Resources/bin/R CMD check --install=check:MoonlightR.install-out.txt --library=/Library/Frameworks/R.framework/Resources/library --no-vignettes --timings MoonlightR_1.32.0.tar.gz StartedAt: 2025-04-02 01:29:00 -0400 (Wed, 02 Apr 2025) EndedAt: 2025-04-02 01:36:19 -0400 (Wed, 02 Apr 2025) EllapsedTime: 439.3 seconds RetCode: 0 Status: OK CheckDir: MoonlightR.Rcheck Warnings: 0