Package: MoonlightR Version: 1.32.0 Command: /Library/Frameworks/R.framework/Resources/bin/R CMD build --keep-empty-dirs --no-resave-data MoonlightR StartedAt: 2025-04-01 03:34:33 -0400 (Tue, 01 Apr 2025) EndedAt: 2025-04-01 03:37:13 -0400 (Tue, 01 Apr 2025) EllapsedTime: 160.5 seconds RetCode: 0 Status: OK PackageFile: MoonlightR_1.32.0.tar.gz PackageFileSize: 15.56 MiB