Package: Moonlight2R Version: 1.4.0 Command: F:\biocbuild\bbs-3.20-bioc\R\bin\R.exe CMD INSTALL Moonlight2R StartedAt: 2025-03-31 16:47:21 -0400 (Mon, 31 Mar 2025) EndedAt: 2025-03-31 16:49:00 -0400 (Mon, 31 Mar 2025) EllapsedTime: 99.2 seconds RetCode: 0 Status: OK