Package: Moonlight2R Version: 1.4.0 Command: /home/biocbuild/bbs-3.20-bioc/R/bin/R CMD check --install=check:Moonlight2R.install-out.txt --library=/home/biocbuild/bbs-3.20-bioc/R/site-library --timings Moonlight2R_1.4.0.tar.gz StartedAt: 2025-03-21 00:02:53 -0400 (Fri, 21 Mar 2025) EndedAt: 2025-03-21 00:18:23 -0400 (Fri, 21 Mar 2025) EllapsedTime: 929.9 seconds RetCode: 0 Status: OK CheckDir: Moonlight2R.Rcheck Warnings: 0