Package: Moonlight2R Version: 1.4.0 Command: /Library/Frameworks/R.framework/Resources/bin/R CMD build --keep-empty-dirs --no-resave-data Moonlight2R StartedAt: 2025-03-31 20:12:37 -0400 (Mon, 31 Mar 2025) EndedAt: 2025-03-31 20:15:27 -0400 (Mon, 31 Mar 2025) EllapsedTime: 169.9 seconds RetCode: 1 Status: ERROR PackageFile: None PackageFileSize: NA