Package: Moonlight2R Version: 1.4.0 Command: /Library/Frameworks/R.framework/Resources/bin/R CMD INSTALL Moonlight2R StartedAt: 2025-03-31 17:34:27 -0400 (Mon, 31 Mar 2025) EndedAt: 2025-03-31 17:35:24 -0400 (Mon, 31 Mar 2025) EllapsedTime: 57.0 seconds RetCode: 0 Status: OK