Package: Moonlight2R Version: 1.4.0 Command: /Library/Frameworks/R.framework/Resources/bin/R CMD build --keep-empty-dirs --no-resave-data Moonlight2R StartedAt: 2025-04-01 03:34:10 -0400 (Tue, 01 Apr 2025) EndedAt: 2025-04-01 03:35:33 -0400 (Tue, 01 Apr 2025) EllapsedTime: 83.2 seconds RetCode: 1 Status: ERROR PackageFile: None PackageFileSize: NA