Package: MineICA Version: 1.46.0 Command: /home/biocbuild/bbs-3.20-bioc/R/bin/R CMD check --install=check:MineICA.install-out.txt --library=/home/biocbuild/bbs-3.20-bioc/R/site-library --timings MineICA_1.46.0.tar.gz StartedAt: 2025-03-31 23:55:50 -0400 (Mon, 31 Mar 2025) EndedAt: 2025-04-01 00:01:00 -0400 (Tue, 01 Apr 2025) EllapsedTime: 309.3 seconds RetCode: 0 Status: WARNINGS CheckDir: MineICA.Rcheck Warnings: 3