Package: MicrobiomeProfiler Version: 1.12.0 Command: /Library/Frameworks/R.framework/Resources/bin/R CMD build --keep-empty-dirs --no-resave-data MicrobiomeProfiler StartedAt: 2025-03-31 20:03:03 -0400 (Mon, 31 Mar 2025) EndedAt: 2025-03-31 20:04:04 -0400 (Mon, 31 Mar 2025) EllapsedTime: 61.0 seconds RetCode: 0 Status: OK PackageFile: MicrobiomeProfiler_1.12.0.tar.gz PackageFileSize: 1.051 MiB