Package: MicrobiomeProfiler Version: 1.12.0 Command: /Library/Frameworks/R.framework/Resources/bin/R CMD build --keep-empty-dirs --no-resave-data MicrobiomeProfiler StartedAt: 2025-04-01 03:06:59 -0400 (Tue, 01 Apr 2025) EndedAt: 2025-04-01 03:07:29 -0400 (Tue, 01 Apr 2025) EllapsedTime: 30.9 seconds RetCode: 0 Status: OK PackageFile: MicrobiomeProfiler_1.12.0.tar.gz PackageFileSize: 1.051 MiB