Package: MiPP Version: 1.78.0 Command: /home/biocbuild/bbs-3.20-bioc/R/bin/R CMD build --keep-empty-dirs --no-resave-data --md5 MiPP StartedAt: 2025-03-31 18:03:02 -0400 (Mon, 31 Mar 2025) EndedAt: 2025-03-31 18:03:08 -0400 (Mon, 31 Mar 2025) EllapsedTime: 6.0 seconds RetCode: 0 Status: OK PackageFile: MiPP_1.78.0.tar.gz PackageFileSize: 411.6 KiB