Package: MiChip Version: 1.60.0 Command: /home/biocbuild/R/R/bin/R CMD check --install=check:MiChip.install-out.txt --library=/home/biocbuild/R/R/site-library --no-vignettes --timings MiChip_1.60.0.tar.gz StartedAt: 2025-04-01 08:16:36 -0000 (Tue, 01 Apr 2025) EndedAt: 2025-04-01 08:17:05 -0000 (Tue, 01 Apr 2025) EllapsedTime: 29.0 seconds RetCode: 0 Status: OK CheckDir: MiChip.Rcheck Warnings: 0