Package: MiChip Version: 1.60.0 Command: /home/biocbuild/R/R/bin/R CMD build --keep-empty-dirs --no-resave-data MiChip StartedAt: 2025-04-01 00:46:15 -0000 (Tue, 01 Apr 2025) EndedAt: 2025-04-01 00:46:25 -0000 (Tue, 01 Apr 2025) EllapsedTime: 10.0 seconds RetCode: 0 Status: OK PackageFile: MiChip_1.60.0.tar.gz PackageFileSize: 643.9 KiB