Package: MiChip Version: 1.60.0 Command: rm -rf MiChip.buildbin-libdir && mkdir MiChip.buildbin-libdir && F:\biocbuild\bbs-3.20-bioc\R\bin\R.exe CMD INSTALL --build --library=MiChip.buildbin-libdir MiChip_1.60.0.tar.gz StartedAt: 2025-04-01 08:36:28 -0400 (Tue, 01 Apr 2025) EndedAt: 2025-04-01 08:36:39 -0400 (Tue, 01 Apr 2025) EllapsedTime: 11.2 seconds RetCode: 0 Status: OK PackageFile: MiChip_1.60.0.zip PackageFileSize: 585.3 KiB