Package: MiChip Version: 1.60.0 Command: /home/biocbuild/bbs-3.20-bioc/R/bin/R CMD check --install=check:MiChip.install-out.txt --library=/home/biocbuild/bbs-3.20-bioc/R/site-library --timings MiChip_1.60.0.tar.gz StartedAt: 2025-03-31 23:52:11 -0400 (Mon, 31 Mar 2025) EndedAt: 2025-03-31 23:52:39 -0400 (Mon, 31 Mar 2025) EllapsedTime: 28.0 seconds RetCode: 0 Status: OK CheckDir: MiChip.Rcheck Warnings: 0