Package: MiChip Version: 1.60.0 Command: /Library/Frameworks/R.framework/Resources/bin/R CMD build --keep-empty-dirs --no-resave-data MiChip StartedAt: 2025-04-01 03:05:44 -0400 (Tue, 01 Apr 2025) EndedAt: 2025-04-01 03:06:00 -0400 (Tue, 01 Apr 2025) EllapsedTime: 15.9 seconds RetCode: 0 Status: OK PackageFile: MiChip_1.60.0.tar.gz PackageFileSize: 669.7 KiB