Package: MethylSeekR Version: 1.46.0 Command: /Library/Frameworks/R.framework/Resources/bin/R CMD INSTALL MethylSeekR StartedAt: 2025-03-31 15:34:39 -0400 (Mon, 31 Mar 2025) EndedAt: 2025-03-31 15:35:42 -0400 (Mon, 31 Mar 2025) EllapsedTime: 62.9 seconds RetCode: 0 Status: OK