Package: MethylSeekR Version: 1.46.0 Command: /Library/Frameworks/R.framework/Resources/bin/R CMD check --install=check:MethylSeekR.install-out.txt --library=/Library/Frameworks/R.framework/Resources/library --no-vignettes --timings MethylSeekR_1.46.0.tar.gz StartedAt: 2025-04-01 05:29:30 -0400 (Tue, 01 Apr 2025) EndedAt: 2025-04-01 05:41:30 -0400 (Tue, 01 Apr 2025) EllapsedTime: 719.7 seconds RetCode: 0 Status: OK CheckDir: MethylSeekR.Rcheck Warnings: 0