Package: MethylMix Version: 2.36.0 Command: F:\biocbuild\bbs-3.20-bioc\R\bin\R.exe CMD INSTALL MethylMix StartedAt: 2025-03-31 16:29:40 -0400 (Mon, 31 Mar 2025) EndedAt: 2025-03-31 16:30:20 -0400 (Mon, 31 Mar 2025) EllapsedTime: 40.4 seconds RetCode: 0 Status: OK