Package: MethylMix Version: 2.36.0 Command: chmod a+r MethylMix -R && F:\biocbuild\bbs-3.20-bioc\R\bin\R.exe CMD build --keep-empty-dirs --no-resave-data MethylMix StartedAt: 2025-03-31 20:05:14 -0400 (Mon, 31 Mar 2025) EndedAt: 2025-03-31 20:05:58 -0400 (Mon, 31 Mar 2025) EllapsedTime: 43.9 seconds RetCode: 0 Status: OK PackageFile: MethylMix_2.36.0.tar.gz PackageFileSize: 2.575 MiB