Package: MethylMix Version: 2.36.0 Command: /Library/Frameworks/R.framework/Resources/bin/R CMD INSTALL MethylMix StartedAt: 2025-03-31 17:04:17 -0400 (Mon, 31 Mar 2025) EndedAt: 2025-03-31 17:04:28 -0400 (Mon, 31 Mar 2025) EllapsedTime: 11.1 seconds RetCode: 0 Status: OK