Package: MethylMix Version: 2.36.0 Command: /Library/Frameworks/R.framework/Resources/bin/R CMD build --keep-empty-dirs --no-resave-data MethylMix StartedAt: 2025-04-01 02:59:27 -0400 (Tue, 01 Apr 2025) EndedAt: 2025-04-01 03:00:00 -0400 (Tue, 01 Apr 2025) EllapsedTime: 32.9 seconds RetCode: 0 Status: OK PackageFile: MethylMix_2.36.0.tar.gz PackageFileSize: 2.576 MiB