Package: MethylMix Version: 2.36.0 Command: rm -rf MethylMix.buildbin-libdir && mkdir MethylMix.buildbin-libdir && /Users/biocbuild/BBS/utils/build-universal.sh MethylMix_2.36.0.tar.gz /Library/Frameworks/R.framework/Resources/bin/R MethylMix.buildbin-libdir StartedAt: 2025-04-02 15:07:32 -0400 (Wed, 02 Apr 2025) EndedAt: 2025-04-02 15:07:45 -0400 (Wed, 02 Apr 2025) EllapsedTime: 13.6 seconds RetCode: 0 Status: OK PackageFile: MethylMix_2.36.0.tgz PackageFileSize: 2.918 MiB