Package: MethylAid Version: 1.40.0 Command: chmod a+r MethylAid -R && F:\biocbuild\bbs-3.20-bioc\R\bin\R.exe CMD build --keep-empty-dirs --no-resave-data MethylAid StartedAt: 2025-03-31 20:04:03 -0400 (Mon, 31 Mar 2025) EndedAt: 2025-03-31 20:12:27 -0400 (Mon, 31 Mar 2025) EllapsedTime: 503.5 seconds RetCode: 0 Status: OK PackageFile: MethylAid_1.40.0.tar.gz PackageFileSize: 3.014 MiB