Package: MethylAid Version: 1.40.0 Command: /Library/Frameworks/R.framework/Resources/bin/R CMD build --keep-empty-dirs --no-resave-data MethylAid StartedAt: 2025-03-31 19:57:02 -0400 (Mon, 31 Mar 2025) EndedAt: 2025-03-31 20:04:46 -0400 (Mon, 31 Mar 2025) EllapsedTime: 464.4 seconds RetCode: 0 Status: OK PackageFile: MethylAid_1.40.0.tar.gz PackageFileSize: 3.012 MiB