Package: MethTargetedNGS Version: 1.38.0 Command: /home/biocbuild/R/R/bin/R CMD build --keep-empty-dirs --no-resave-data MethTargetedNGS StartedAt: 2025-04-01 00:41:46 -0000 (Tue, 01 Apr 2025) EndedAt: 2025-04-01 00:42:11 -0000 (Tue, 01 Apr 2025) EllapsedTime: 25.0 seconds RetCode: 0 Status: OK PackageFile: MethTargetedNGS_1.38.0.tar.gz PackageFileSize: 271.6 KiB