Package: MethTargetedNGS Version: 1.38.0 Command: rm -rf MethTargetedNGS.buildbin-libdir && mkdir MethTargetedNGS.buildbin-libdir && F:\biocbuild\bbs-3.20-bioc\R\bin\R.exe CMD INSTALL --build --library=MethTargetedNGS.buildbin-libdir MethTargetedNGS_1.38.0.tar.gz StartedAt: 2025-04-01 08:34:52 -0400 (Tue, 01 Apr 2025) EndedAt: 2025-04-01 08:35:20 -0400 (Tue, 01 Apr 2025) EllapsedTime: 27.9 seconds RetCode: 0 Status: OK PackageFile: MethTargetedNGS_1.38.0.zip PackageFileSize: 175.2 KiB