Package: MethTargetedNGS Version: 1.38.0 Command: /Library/Frameworks/R.framework/Resources/bin/R CMD check --install=check:MethTargetedNGS.install-out.txt --library=/Library/Frameworks/R.framework/Resources/library --no-vignettes --timings MethTargetedNGS_1.38.0.tar.gz StartedAt: 2025-04-01 05:25:00 -0400 (Tue, 01 Apr 2025) EndedAt: 2025-04-01 05:28:28 -0400 (Tue, 01 Apr 2025) EllapsedTime: 207.4 seconds RetCode: 0 Status: OK CheckDir: MethTargetedNGS.Rcheck Warnings: 0