Package: MethTargetedNGS Version: 1.38.0 Command: /Library/Frameworks/R.framework/Resources/bin/R CMD check --install=check:MethTargetedNGS.install-out.txt --library=/Library/Frameworks/R.framework/Resources/library --no-vignettes --timings MethTargetedNGS_1.38.0.tar.gz StartedAt: 2025-04-02 00:21:48 -0400 (Wed, 02 Apr 2025) EndedAt: 2025-04-02 00:23:27 -0400 (Wed, 02 Apr 2025) EllapsedTime: 99.5 seconds RetCode: 0 Status: OK CheckDir: MethTargetedNGS.Rcheck Warnings: 0