Package: MethTargetedNGS Version: 1.38.0 Command: rm -rf MethTargetedNGS.buildbin-libdir && mkdir MethTargetedNGS.buildbin-libdir && /Users/biocbuild/BBS/utils/build-universal.sh MethTargetedNGS_1.38.0.tar.gz /Library/Frameworks/R.framework/Resources/bin/R MethTargetedNGS.buildbin-libdir StartedAt: 2025-04-02 15:06:17 -0400 (Wed, 02 Apr 2025) EndedAt: 2025-04-02 15:06:33 -0400 (Wed, 02 Apr 2025) EllapsedTime: 16.0 seconds RetCode: 0 Status: OK PackageFile: MethTargetedNGS_1.38.0.tgz PackageFileSize: 323 KiB