Package: MethPed Version: 1.34.0 Command: /home/biocbuild/bbs-3.20-bioc/R/bin/R CMD INSTALL MethPed StartedAt: 2025-03-31 15:42:55 -0400 (Mon, 31 Mar 2025) EndedAt: 2025-03-31 15:43:01 -0400 (Mon, 31 Mar 2025) EllapsedTime: 6.7 seconds RetCode: 0 Status: OK