Package: MethPed Version: 1.34.0 Command: /home/biocbuild/bbs-3.20-bioc/R/bin/R CMD check --install=check:MethPed.install-out.txt --library=/home/biocbuild/bbs-3.20-bioc/R/site-library --timings MethPed_1.34.0.tar.gz StartedAt: 2025-03-31 23:43:36 -0400 (Mon, 31 Mar 2025) EndedAt: 2025-03-31 23:48:03 -0400 (Mon, 31 Mar 2025) EllapsedTime: 267.2 seconds RetCode: 0 Status: OK CheckDir: MethPed.Rcheck Warnings: 0