Package: MethPed Version: 1.34.0 Command: rm -rf MethPed.buildbin-libdir && mkdir MethPed.buildbin-libdir && /Users/biocbuild/BBS/utils/build-universal.sh MethPed_1.34.0.tar.gz /Library/Frameworks/R.framework/Resources/bin/R MethPed.buildbin-libdir StartedAt: 2025-04-01 12:12:36 -0400 (Tue, 01 Apr 2025) EndedAt: 2025-04-01 12:12:51 -0400 (Tue, 01 Apr 2025) EllapsedTime: 14.9 seconds RetCode: 0 Status: OK PackageFile: MethPed_1.34.0.tgz PackageFileSize: 9.305 MiB