Package: MetaboSignal Version: 1.36.0 Command: F:\biocbuild\bbs-3.20-bioc\R\bin\R.exe CMD INSTALL MetaboSignal StartedAt: 2025-03-31 16:39:10 -0400 (Mon, 31 Mar 2025) EndedAt: 2025-03-31 16:41:21 -0400 (Mon, 31 Mar 2025) EllapsedTime: 131.2 seconds RetCode: 0 Status: OK